BEGIN:VCALENDAR
VERSION:2.0
PRODID:-//Department Of Education//077d65e8-7b1c-487a-b41b-789c67d048e7
BEGIN:VTIMEZONE
TZID:Australia/Sydney
TZURL:http://tzurl.org/zoneinfo-outlook/Australia/Sydney
X-LIC-LOCATION:Australia/Sydney
BEGIN:STANDARD
TZOFFSETFROM:+1100
TZOFFSETTO:+1000
TZNAME:AEST
DTSTART:19700405T030000
RRULE:FREQ=YEARLY;BYMONTH=4;BYDAY=1SU
END:STANDARD
BEGIN:DAYLIGHT
TZOFFSETFROM:+1000
TZOFFSETTO:+1100
TZNAME:AEDT
DTSTART:19701004T020000
RRULE:FREQ=YEARLY;BYMONTH=10;BYDAY=1SU
END:DAYLIGHT
END:VTIMEZONE
CALSCALE:GREGORIAN
X-WR-TIMEZONE:Australia/Sydney
BEGIN:VEVENT
DTSTART;TZID=Australia/Sydney:20200402T140047
DTEND;TZID=Australia/Sydney:20200402T150052
DTSTAMP:20200402T000000Z
UID:6a06948a-35b2-4cc3-ba0c-b6113923ed92
LOCATION:School hall
SUMMARY;LANGUAGE=en-us:Stage 2 and Stage 3 Showcase
SEQUENCE:0
DESCRIPTION:Families are welcome to join us to celebrate a term of great learning by our children.
END:VEVENT
TRANSP:TRANSPARENT
END:VCALENDAR
